BEGIN:VCALENDAR
VERSION:2.0
PRODID:-//Contratero//ES
CALSCALE:GREGORIAN
METHOD:PUBLISH
BEGIN:VEVENT
UID:CONTR 2025 23607@contratero.es
DTSTAMP:20260422T112902Z
DTSTART:20251110T235959
DTEND:20251111T005959
SUMMARY:Cierre: Servicio de soporte y mantenimiento microinformáti
DESCRIPTION:Servicio de soporte y mantenimiento microinformático de la sede y las oficinas adscritas a la Consejería de Empresa\, Autónomos y Energia\\n\\nOrganismo: Consejería de Empresa\, Autónomos y Energía de las Illes Balears\\n\\nVer en Contratero: https://contratero.es/contracts/CONTR 2025 23607
URL:https://contratero.es/contracts/CONTR 2025 23607
STATUS:CONFIRMED
BEGIN:VALARM
TRIGGER:-P1D
ACTION:DISPLAY
DESCRIPTION:Recordatorio: Servicio de soporte y mantenim
END:VALARM
END:VEVENT
END:VCALENDAR